BEGIN:VCALENDAR
VERSION:2.0
PRODID:-//eventon.com NONSGML v1.0//EN
CALSCALE:GREGORIAN
METHOD:PUBLISH
BEGIN:VEVENT
UID:69e6e5cfaed85
DTSTAMP:20260421T024951Z
DTSTART:20200910T180000Z
DTEND:20200919T220000Z
LOCATION:
SUMMARY:Darwin Family Fun Fair
DESCRIPTION:Darwin Family Fun Fair\,  run by Territorians for Territorians.
  Rides for the big and rides for the small. Win Big along Sideshow Alley an
 d eat the yummy yummy food from one of our many food stalls. You wont want 
 to miss the biggest event before the wet!!!\nhttps://www.darwinfamilylife.c
 om.au/events/darwin-family-fun-fair/
URL:https://www.darwinfamilylife.com.au/events/darwin-family-fun-fair/
END:VEVENT
END:VCALENDAR